BEGIN:VCALENDAR
PRODID:NingEventWidget-v1
VERSION:2.0
METHOD:PUBLISH
BEGIN:VTIMEZONE
TZID:Pacific/Midway
X-LIC-LOCATION:Pacific/Midway
BEGIN:STANDARD
TZOFFSETFROM:-1100
TZOFFSETTO:-1100
TZNAME:SST
DTSTART:19700101T000000
END:STANDARD
END:VTIMEZONE
BEGIN:VEVENT
UID:5072275:Event:1026466
DTSTAMP:20260421T133837Z
SUMMARY:Celebrity Auto Festival
DESCRIPTION:Celebrity Auto Festival will happen at Big Top Flea Market
 . Starts at 10:00 AM and ends by 6:00 PM. Over 30 celebrity and tribut
 e cars on display. Car show open to all makes and models. Dash plaques
  and Goodie bags for all cars. Awards for 40 show cars. Fees: Spectato
 rs free, Show cars $25. Live Music. DJ. Kids Zone.\n\nFor more informa
 tion visit https://www.southeastwheelsevents.com/events/celebrity-auto
 -festival
DTSTART;TZID=Pacific/Midway:20170116T100000
DTEND;TZID=Pacific/Midway:20170116T180000
CATEGORIES:cars, trucks, "clubs/shows/cruises"
LOCATION:Big Top Flea Market
WEBSITE:http://www.tampabaymoparclub.com/events.html
URL:http://www.tampabaymoparclub.com/events.html
CONTACT:
ORGANIZER:Tampa Bay Mopar Club
ATTACH;FMTTYPE="image/jpeg":http://storage.ning.com/topology/rest/1.0/
 file/get/967721163?profile=original
ATTENDEE;ROLE=REQ-PARTICIPANT;PARTSTAT=ACCEPTED;RSVP=TRUE;CN="Chris go
 sney":https://www.southeastwheelsevents.com/profile/Chrisgosney
END:VEVENT
END:VCALENDAR
