BEGIN:VCALENDAR
PRODID:NingEventWidget-v1
VERSION:2.0
METHOD:PUBLISH
BEGIN:VTIMEZONE
TZID:Pacific/Midway
X-LIC-LOCATION:Pacific/Midway
BEGIN:STANDARD
TZOFFSETFROM:-1100
TZOFFSETTO:-1100
TZNAME:SST
DTSTART:19700101T000000
END:STANDARD
END:VTIMEZONE
BEGIN:VEVENT
UID:5072275:Event:1180111
DTSTAMP:20260419T044137Z
SUMMARY:Central Baptist Church Car, Truck and Motorcycle Show - Gaines
 ville, Ga
DESCRIPTION:Central Baptist Church Car, Truck, and Motorcycle Show, 78
 5 Main Street\n\nFor more information visit https://www.southeastwheel
 sevents.com/events/central-baptist-church-car-truck-and-motorcycle-sho
 w-gainesville
DTSTART;TZID=Pacific/Midway:20191109T090000
DTEND;TZID=Pacific/Midway:20191109T150000
CATEGORIES:car, show, truck, motorcycle, cruise-in
LOCATION:Central Baptist Church,
WEBSITE:
URL:
CONTACT:(770)654-7320
ORGANIZER:Douse Watson
ATTACH;FMTTYPE="image/jpeg":https://storage.ning.com/topology/rest/1.0
 /file/get/3700587983?profile=original
ATTENDEE;ROLE=REQ-PARTICIPANT;PARTSTAT=ACCEPTED;RSVP=TRUE;CN="Anthony 
 Hopkins":https://www.southeastwheelsevents.com/profile/AnthonyHopkins
END:VEVENT
END:VCALENDAR
