BEGIN:VCALENDAR
PRODID:NingEventWidget-v1
VERSION:2.0
METHOD:PUBLISH
BEGIN:VTIMEZONE
TZID:Pacific/Midway
X-LIC-LOCATION:Pacific/Midway
BEGIN:STANDARD
TZOFFSETFROM:-1100
TZOFFSETTO:-1100
TZNAME:SST
DTSTART:19700101T000000
END:STANDARD
END:VTIMEZONE
BEGIN:VEVENT
UID:5072275:Event:1024857
DTSTAMP:20260421T231302Z
SUMMARY:Chapter Meeting Savannah HOG
DESCRIPTION:Chapter Meeting Savannah HOG will be held at Savannah Harl
 ey-Davidson, 1 Fort Argyle Rd, Savannah, GA. Meeting starts at 9:30 am
 . and ends by 10:45 am.\n\nFor more information visit https://www.sout
 heastwheelsevents.com/events/chapter-meeting-savannah-hog
DTSTART;TZID=Pacific/Midway:20161217T093000
DTEND;TZID=Pacific/Midway:20161217T104500
CATEGORIES:cars, "clubs/shows/cruises"
LOCATION:Savannah Harley-Davidson
WEBSITE:http://savannahhog.com/code/Calendar.aspx?MoDaYr=4%2f1%2f2016
URL:http://savannahhog.com/code/Calendar.aspx?MoDaYr=4%2f1%2f2016
CONTACT:
ORGANIZER:Savannah HOG
ATTACH;FMTTYPE="image/jpeg":
ATTENDEE;ROLE=REQ-PARTICIPANT;PARTSTAT=ACCEPTED;RSVP=TRUE;CN="Chris go
 sney":https://www.southeastwheelsevents.com/profile/Chrisgosney
END:VEVENT
END:VCALENDAR
