BEGIN:VCALENDAR
PRODID:NingEventWidget-v1
VERSION:2.0
METHOD:PUBLISH
BEGIN:VTIMEZONE
TZID:Pacific/Midway
X-LIC-LOCATION:Pacific/Midway
BEGIN:STANDARD
TZOFFSETFROM:-1100
TZOFFSETTO:-1100
TZNAME:SST
DTSTART:19700101T000000
END:STANDARD
END:VTIMEZONE
BEGIN:VEVENT
UID:5072275:Event:1032173
DTSTAMP:20260422T140648Z
SUMMARY:Charity Poker Run, Mauldin, SC
DESCRIPTION:The second annual Charity Poker Run by the Mauldin Rotary 
 Club to benefit new playgrounds at The Mauldin Cultural Center.\n\nFor
  more information visit https://www.southeastwheelsevents.com/events/c
 harity-poker-run-mauldin-sc
DTSTART;TZID=Pacific/Midway:20170401T000000
DTEND;TZID=Pacific/Midway:20170401T235900
CATEGORIES:fundraiser
LOCATION:Xtreme Customs & Cycles
WEBSITE:http://www.mauldinrotary.org
URL:http://www.mauldinrotary.org
CONTACT:8642364171
ORGANIZER;CN="Norman Bunn":https://www.southeastwheelsevents.com/profi
 le/NormanBunn
ATTACH;FMTTYPE="image/jpeg":
ATTENDEE;ROLE=REQ-PARTICIPANT;PARTSTAT=ACCEPTED;RSVP=TRUE;CN="Norman B
 unn":https://www.southeastwheelsevents.com/profile/NormanBunn
END:VEVENT
END:VCALENDAR
