BEGIN:VCALENDAR
PRODID:NingEventWidget-v1
VERSION:2.0
METHOD:PUBLISH
BEGIN:VTIMEZONE
TZID:Pacific/Midway
X-LIC-LOCATION:Pacific/Midway
BEGIN:STANDARD
TZOFFSETFROM:-1100
TZOFFSETTO:-1100
TZNAME:SST
DTSTART:19700101T000000
END:STANDARD
END:VTIMEZONE
BEGIN:VEVENT
UID:5072275:Event:1078463
DTSTAMP:20260424T113908Z
SUMMARY:Charity Poker Run
DESCRIPTION:Come join us on a great tour of the Upstate. Prizes, food,
  music, fun. 50/50 raffle, plus prizes for best and worst hands. For m
 ore info: pokerrun@mauldinrotary.org\n\nFor more information visit htt
 ps://www.southeastwheelsevents.com/events/charity-poker-run
DTSTART;TZID=Pacific/Midway:20180407T090000
DTEND;TZID=Pacific/Midway:20180407T150000
CATEGORIES:poker, run
LOCATION:Mauldin Cultural Center
WEBSITE:https://www.facebook.com/events/165403257430946/
URL:https://www.facebook.com/events/165403257430946/
CONTACT:864-236-4171
ORGANIZER:Rotary Club of Mauldin
ATTACH;FMTTYPE="image/jpeg":http://storage.ning.com/topology/rest/1.0/
 file/get/967764602?profile=original
ATTENDEE;ROLE=REQ-PARTICIPANT;PARTSTAT=ACCEPTED;RSVP=TRUE;CN="Norman B
 unn":https://www.southeastwheelsevents.com/profile/NormanBunn
END:VEVENT
END:VCALENDAR
