BEGIN:VCALENDAR
PRODID:NingEventWidget-v1
VERSION:2.0
METHOD:PUBLISH
BEGIN:VTIMEZONE
TZID:Pacific/Midway
X-LIC-LOCATION:Pacific/Midway
BEGIN:STANDARD
TZOFFSETFROM:-1100
TZOFFSETTO:-1100
TZNAME:SST
DTSTART:19700101T000000
END:STANDARD
END:VTIMEZONE
BEGIN:VEVENT
UID:5072275:Event:1029788
DTSTAMP:20260424T084626Z
SUMMARY:Charity Vehicle Sale at Mid-State Auto Auction
DESCRIPTION:Charity cars, Repo's, Franchise trade-ins, Independent Dea
 ler and Fleet vehicles will be sold to the highest bidder. Registratio
 n and previewing opens to the Public at 4pm. We will be selling Charit
 y vehicles this sale and end time of the sale may change.\n\nFor more 
 information visit https://www.southeastwheelsevents.com/events/charity
 -vehicle-sale-at-mid-state-auto-auction
DTSTART;TZID=Pacific/Midway:20170125T160000
DTEND;TZID=Pacific/Midway:20170125T200000
CATEGORIES:cars, trucks, "auction/swap", fleet
LOCATION:Mid-State Auto Auction
WEBSITE:http://www.midstateauctionsc.com/components/event/show/2017/1/
 25
URL:http://www.midstateauctionsc.com/components/event/show/2017/1/25
CONTACT:
ORGANIZER:Mid-State Auto Auction
ATTACH;FMTTYPE="image/jpeg":
ATTENDEE;ROLE=REQ-PARTICIPANT;PARTSTAT=ACCEPTED;RSVP=TRUE;CN="Christop
 her Gosney":https://www.southeastwheelsevents.com/profile/ChristopherG
 osney
END:VEVENT
END:VCALENDAR
