BEGIN:VCALENDAR
PRODID:NingEventWidget-v1
VERSION:2.0
METHOD:PUBLISH
BEGIN:VTIMEZONE
TZID:Pacific/Midway
X-LIC-LOCATION:Pacific/Midway
BEGIN:STANDARD
TZOFFSETFROM:-1100
TZOFFSETTO:-1100
TZNAME:SST
DTSTART:19700101T000000
END:STANDARD
END:VTIMEZONE
BEGIN:VEVENT
UID:5072275:Event:719896
DTSTAMP:20260423T143020Z
SUMMARY:Charleston Cars & Coffee -Mt. Pleasant, SC
DESCRIPTION:\r\nCharleston Cars & Coffee, Brookgreen Town Center, 730 
 Coleman Blvd., Mt. Pleasant, 8am – 10am\r\nA bunch of car and motorc
 ycle enthusiasts that meet up every Saturday around 8AM at the MTP Tow
 ne Centre in front of Atlanta Bread Company.\r\n\r\n\r\nAbout\r\n\r\n\
 r\n\r\nA bunch of car and motorcycle enthusiasts that meet up every Sa
 turday around 8AM at the MTP Towne Centre in front of Atlanta Bread Co
 mpany.\r\n\r\nMission\r\nEstablishing a weekly meeting place for car e
 nthusiasts in the Charleston, SC area. Currently meeting every Saturda
 y at 8am at the Mount Pleasant Towne Centre (in front of Atlanta Bread
  Company).\r\n\r\nDescription\r\nA place for car enthusiasts of any ma
 rque to share information and plan events in the Charleston, SC area.\
 r\n\n\nFor more information visit https://www.southeastwheelsevents.co
 m/events/charleston-cars-coffee-mt-pleasant-sc-1
DTSTART;TZID=Pacific/Midway:20171125T080000
DTEND;TZID=Pacific/Midway:20171125T110000
CATEGORIES:car-show, towne, centre, in-front, atlanta, bread, company
LOCATION:Towne Centre in front of Atlanta Bread Company
WEBSITE:https://www.facebook.com/pages/Charleston-Cars-Coffee/19833625
 6874223
URL:https://www.facebook.com/pages/Charleston-Cars-Coffee/198336256874
 223
CONTACT:
ORGANIZER:Charleston Cars &amp; Coffee
ATTACH;FMTTYPE="image/jpeg":http://storage.ning.com/topology/rest/1.0/
 file/get/967647836?profile=original
ATTENDEE;ROLE=REQ-PARTICIPANT;PARTSTAT=ACCEPTED;RSVP=TRUE;CN="Jack Tho
 mas":https://www.southeastwheelsevents.com/profile/JackThomas
ATTENDEE;ROLE=REQ-PARTICIPANT;PARTSTAT=ACCEPTED;RSVP=TRUE;CN="michael 
 lovito":https://www.southeastwheelsevents.com/profile/michaellovito
END:VEVENT
END:VCALENDAR
