BEGIN:VCALENDAR
PRODID:NingEventWidget-v1
VERSION:2.0
METHOD:PUBLISH
BEGIN:VTIMEZONE
TZID:Pacific/Midway
X-LIC-LOCATION:Pacific/Midway
BEGIN:STANDARD
TZOFFSETFROM:-1100
TZOFFSETTO:-1100
TZNAME:SST
DTSTART:19700101T000000
END:STANDARD
END:VTIMEZONE
BEGIN:VEVENT
UID:5072275:Event:637912
DTSTAMP:20260423T122828Z
SUMMARY:Charleston Road Rally...Reinvented -Charleston, SC
DESCRIPTION:\n\n\nA Benefit for LifeManagement Center\nGREAT FOOD •
  OPEN BAR • SILENT/LIVE AUCTION • DJ & DANCING • NASCAR Simulat
 or\nReinvented: We're bringing it inside! Guests will have the chance
  to race in a full-sized NASCAR simulator.\nParty Tickets: $40/ person
  Simulator Tickets: $35/ driver (limited availability)\nAll proceeds f
 rom this event will be used to support the scholarship and educational
  programs of LifeManagement Center. For more information, contact road
 rally@lifemanagement.org\n \nDrive the Full Motion NASCAR Simulator\n
 \nClimb into a real, decommissioned NASCAR vehicle converted into a 
 full motion simulator  for the ride of a lifetime. Experience the tur
 ns, bumps, and crashes of a NASCAR track.\n \n\nThere are limited tick
 ets available to  drive: Purchase yours now!\n \n\n\n\nFor more in
 formation visit https://www.southeastwheelsevents.com/events/charlesto
 n-road-rally-reinvented
DTSTART;TZID=Pacific/Midway:20130420T183000
DTEND;TZID=Pacific/Midway:20130420T220000
CATEGORIES:fundraiser
LOCATION:Citadel Holliday Alumni Center
WEBSITE:http://www.lifemanagement.org/roadrally/
URL:http://www.lifemanagement.org/roadrally/
CONTACT:(843) 852-5705
ORGANIZER:LifeManagement Center
ATTACH;FMTTYPE="image/jpeg":
ATTENDEE;ROLE=REQ-PARTICIPANT;PARTSTAT=ACCEPTED;RSVP=TRUE;CN="Heather 
 Griffin":https://www.southeastwheelsevents.com/profile/HeatherGriffin1
 17
END:VEVENT
END:VCALENDAR
