BEGIN:VCALENDAR
PRODID:NingEventWidget-v1
VERSION:2.0
METHOD:PUBLISH
BEGIN:VTIMEZONE
TZID:Pacific/Midway
X-LIC-LOCATION:Pacific/Midway
BEGIN:STANDARD
TZOFFSETFROM:-1100
TZOFFSETTO:-1100
TZNAME:SST
DTSTART:19700101T000000
END:STANDARD
END:VTIMEZONE
BEGIN:VEVENT
UID:5072275:Event:936844
DTSTAMP:20260420T083558Z
SUMMARY:Charter School Benefit Car Show -Lincolnton, NC
DESCRIPTION:Lincoln Charter School Benefit Car Show -Lincolnton, NC\n
 \nFor more information visit https://www.southeastwheelsevents.com/eve
 nts/charter-school-benefit-car-show-lincolnton-nc
DTSTART;TZID=Pacific/Midway:20151003T080000
DTEND;TZID=Pacific/Midway:20151003T160000
CATEGORIES:car-show, fundraiser
LOCATION:Lincoln Charter School
WEBSITE:
URL:
CONTACT:704-524-7816
ORGANIZER:Lincoln Charter School
ATTACH;FMTTYPE="image/jpeg":http://storage.ning.com/topology/rest/1.0/
 file/get/967694349?profile=original
ATTENDEE;ROLE=REQ-PARTICIPANT;PARTSTAT=ACCEPTED;RSVP=TRUE;CN="James Fr
 anko":https://www.southeastwheelsevents.com/profile/JamesFranko
ATTENDEE;ROLE=REQ-PARTICIPANT;PARTSTAT=ACCEPTED;RSVP=TRUE;CN="Chuck Aa
 ron":https://www.southeastwheelsevents.com/profile/ChuckAaron
END:VEVENT
END:VCALENDAR
