BEGIN:VCALENDAR
PRODID:NingEventWidget-v1
VERSION:2.0
METHOD:PUBLISH
BEGIN:VTIMEZONE
TZID:Pacific/Midway
X-LIC-LOCATION:Pacific/Midway
BEGIN:STANDARD
TZOFFSETFROM:-1100
TZOFFSETTO:-1100
TZNAME:SST
DTSTART:19700101T000000
END:STANDARD
END:VTIMEZONE
BEGIN:VEVENT
UID:5072275:Event:630384
DTSTAMP:20260422T140328Z
SUMMARY:Chattanooga Cruise In at Coker Tire -Chattanooga, TN
DESCRIPTION:The Chattanooga Cruise In continues to grow, and we're hap
 py to at Coker Tire! Mark your calendars for Saturday April 1! It's 
 one of the first big shows of the season, and you don't want to miss 
 out on a great time!   This year, we're blocking off more streets, in
  order to pack more cars into Corkyville! Let's gun for 1,000!!! Along
  with a bunch of awesome cars, Coker Tire, Honest Charley Speed Shop a
 nd Honest Charley Garage are holding an open house. The Chattanooga Cr
 uise In will also feature live entertainment from \"The Other Guys\" a
 nd TONS of great food from several local vendors and neighboring resta
 urants.\n\n\nFor more information visit https://www.southeastwheelseve
 nts.com/events/chattanooga-cruise-in
DTSTART;TZID=Pacific/Midway:20170401T100000
DTEND;TZID=Pacific/Midway:20170401T160000
CATEGORIES:cruise, in
LOCATION:Chattanooga, TN
WEBSITE:http://www.chattanoogacruisein.com
URL:http://www.chattanoogacruisein.com
CONTACT:Tommy Lee Byrd 423-648-8526, 423-265-6368
ORGANIZER:Chattanooga Cruise In
ATTACH;FMTTYPE="image/jpeg":
ATTENDEE;ROLE=REQ-PARTICIPANT;PARTSTAT=ACCEPTED;RSVP=TRUE;CN="Tommy Le
 e Byrd":https://www.southeastwheelsevents.com/profile/TommyLeeByrd
END:VEVENT
END:VCALENDAR
