BEGIN:VCALENDAR
PRODID:NingEventWidget-v1
VERSION:2.0
METHOD:PUBLISH
BEGIN:VTIMEZONE
TZID:Pacific/Midway
X-LIC-LOCATION:Pacific/Midway
BEGIN:STANDARD
TZOFFSETFROM:-1100
TZOFFSETTO:-1100
TZNAME:SST
DTSTART:19700101T000000
END:STANDARD
END:VTIMEZONE
BEGIN:VEVENT
UID:5072275:Event:1188874
DTSTAMP:20260420T145822Z
SUMMARY:CHEROKEE CRUISE IN
DESCRIPTION:\n\nFor more information visit https://www.southeastwheels
 events.com/events/cherokee-cruise-in-7
DTSTART;TZID=Pacific/Midway:20200912T090000
DTEND;TZID=Pacific/Midway:20200912T130000
CATEGORIES:benefit, cruise, in
LOCATION:WALMART PARKING LOT
WEBSITE:
URL:
CONTACT:
ORGANIZER:CHEROKEE CRUISERS AND WALMART
ATTACH;FMTTYPE="image/jpeg":https://storage.ning.com/topology/rest/1.0
 /file/get/3871271482?profile=original
ATTENDEE;ROLE=REQ-PARTICIPANT;PARTSTAT=ACCEPTED;RSVP=TRUE;CN="Jeffrey 
 Rutherford":https://www.southeastwheelsevents.com/profile/JeffreyRuthe
 rford866
END:VEVENT
END:VCALENDAR
