BEGIN:VCALENDAR
PRODID:NingEventWidget-v1
VERSION:2.0
METHOD:PUBLISH
BEGIN:VTIMEZONE
TZID:Pacific/Midway
X-LIC-LOCATION:Pacific/Midway
BEGIN:STANDARD
TZOFFSETFROM:-1100
TZOFFSETTO:-1100
TZNAME:SST
DTSTART:19700101T000000
END:STANDARD
END:VTIMEZONE
BEGIN:VEVENT
UID:5072275:Event:767355
DTSTAMP:20260419T054205Z
SUMMARY:Chevy's on the Cumberland Cruise In / Meet and Greet -Clarksvi
 lle, TN
DESCRIPTION:\nChevy's on the Cumberland Car Show presented by Corvette
 s of Clarksville. Corvettes and Tri-Fives (55,56,57). A Cruise In / Me
 et and Greet at the Show site on Friday night (April 25th) along with 
 accepting car show registration forms.  For more information, please 
 visit their NEW WEBSITE  or read and print FLYER or REGISTRATION 
 FORM.\n\nFor more information visit https://www.southeastwheelsevents.
 com/events/chevy-s-on-the-cumberland-car-show-clarksville-tn
DTSTART;TZID=Pacific/Midway:20140425T050000
DTEND;TZID=Pacific/Midway:20140426T220000
CATEGORIES:car-show
LOCATION:Downtown
WEBSITE:http://corvettesofclarksville.com/
URL:http://corvettesofclarksville.com/
CONTACT:Bill Bartram  bibrtr@aol.com / 931-249-0588
ORGANIZER:Corvettes of Clarksville
ATTACH;FMTTYPE="image/jpeg":http://storage.ning.com/topology/rest/1.0/
 file/get/967660743?profile=original
ATTENDEE;ROLE=REQ-PARTICIPANT;PARTSTAT=ACCEPTED;RSVP=TRUE;CN="Chuck Aa
 ron":https://www.southeastwheelsevents.com/profile/ChuckAaron
END:VEVENT
END:VCALENDAR
