BEGIN:VCALENDAR
PRODID:NingEventWidget-v1
VERSION:2.0
METHOD:PUBLISH
BEGIN:VTIMEZONE
TZID:Pacific/Midway
X-LIC-LOCATION:Pacific/Midway
BEGIN:STANDARD
TZOFFSETFROM:-1100
TZOFFSETTO:-1100
TZNAME:SST
DTSTART:19700101T000000
END:STANDARD
END:VTIMEZONE
BEGIN:VEVENT
UID:5072275:Event:1076327
DTSTAMP:20260424T043611Z
SUMMARY:Chili Chilly Ride -Madison, AL
DESCRIPTION:\r\n\r\n\r\n\r\nChili Chilly Ride\r\n\r\n\r\nEvent Date/Ti
 me\r\nSaturday, February 24, 2018 10:30 AM\r\n\r\n\r\nEvent Type\r\nBe
 nefit - Charity\r\n\r\n\r\nEvent Description\r\nChristian Motorcyclist
 s Association - USA, CMA Huntsville Forgiven Riders Chapter host a sce
 nic ride! Heat things up with a variety of Chili available after the r
 ide at 12 pm! 2018 Run for the Sun, help our chapter raise $25k & make
  a donation at this event!\r\n\r\n\r\nLocation\r\nRedstone Harley-Davi
 dson\r\n\r\n\r\nAddress\r\n15100 HWY. 20 W    [Map]\r\n\r\n\r\nCity\
 r\nMadison\r\n\r\n\r\nState\r\nALABAMA\r\n\r\n\r\nZip\r\n35756\r\n\r\n
 \r\nEvent URL\r\nwww.redstoneharley-davidson.com/events/1535/\r\n\r\n\
 r\n\n\nFor more information visit https://www.southeastwheelsevents.co
 m/events/chili-chilly-ride-madison-al
DTSTART;TZID=Pacific/Midway:20180224T103000
DTEND;TZID=Pacific/Midway:20180224T160000
CATEGORIES:bike, ride, charity
LOCATION:Redstone Harley-Davidson
WEBSITE:http://www.redstoneharley-davidson.com/events/1535/
URL:http://www.redstoneharley-davidson.com/events/1535/
CONTACT:256-384-6868
ORGANIZER:Redstone Harley-Davidson
ATTACH;FMTTYPE="image/jpeg":http://storage.ning.com/topology/rest/1.0/
 file/get/967758786?profile=original
ATTENDEE;ROLE=REQ-PARTICIPANT;PARTSTAT=ACCEPTED;RSVP=TRUE;CN="Chuck Aa
 ron":https://www.southeastwheelsevents.com/profile/ChuckAaron886
END:VEVENT
END:VCALENDAR
