BEGIN:VCALENDAR
PRODID:NingEventWidget-v1
VERSION:2.0
METHOD:PUBLISH
BEGIN:VTIMEZONE
TZID:Pacific/Midway
X-LIC-LOCATION:Pacific/Midway
BEGIN:STANDARD
TZOFFSETFROM:-1100
TZOFFSETTO:-1100
TZNAME:SST
DTSTART:19700101T000000
END:STANDARD
END:VTIMEZONE
BEGIN:VEVENT
UID:5072275:Event:1240226
DTSTAMP:20260423T042924Z
SUMMARY:Chili Cookoff &amp; Car Show Flowery Branch Hideaway Marina
DESCRIPTION:This is going to be their first car show. And they are inv
 iting all to bring their rides and show them off.as far as I know ther
 e is NO ENTRY FEE. So just Bring it.... the show is between 11:00am ti
 ll 2:00pm maybe longer..   \n\nFor more information visit https://ww
 w.southeastwheelsevents.com/events/chili-cookoff-amp-car-show-flowery-
 branch-hideaway-marina
DTSTART;TZID=Pacific/Midway:20221022T110000
DTEND;TZID=Pacific/Midway:20221022T140000
CATEGORIES:chili, cook, off
LOCATION:Safe Harbor Hideaway Bay Marina 6334 Mitchell St.
WEBSITE:
URL:
CONTACT:
ORGANIZER;CN="Frank Church":https://www.southeastwheelsevents.com/prof
 ile/FrankChurch
ATTACH;FMTTYPE="image/jpeg":
ATTENDEE;ROLE=REQ-PARTICIPANT;PARTSTAT=ACCEPTED;RSVP=TRUE;CN="Frank Ch
 urch":https://www.southeastwheelsevents.com/profile/FrankChurch
END:VEVENT
END:VCALENDAR
