BEGIN:VCALENDAR
PRODID:NingEventWidget-v1
VERSION:2.0
METHOD:PUBLISH
BEGIN:VTIMEZONE
TZID:Pacific/Midway
X-LIC-LOCATION:Pacific/Midway
BEGIN:STANDARD
TZOFFSETFROM:-1100
TZOFFSETTO:-1100
TZNAME:SST
DTSTART:19700101T000000
END:STANDARD
END:VTIMEZONE
BEGIN:VEVENT
UID:5072275:Event:1243680
DTSTAMP:20260419T012948Z
SUMMARY:Chin Motorsports HPDE Track Days -Braselton, GA
DESCRIPTION:\r\nThe Chin Motorsports HPDE Track Days will be held at 
 Road Atlanta in Braselton, Georgia. \r\n Location: \r\n-Road Atlanta 
 in Braselton, Georgia (5300 Winder Highway, Braselton, Georgia 30517)\
 r\n Cost: \r\n-Check out the website listed above for prices as they b
 ecome available\r\n Please Contact For More Information: \r\n-(706) 65
 8-4114\n\nFor more information visit https://www.southeastwheelsevents
 .com/events/chin-motorsports-hpde-track-days-braselton-ga-4
DTSTART;TZID=Pacific/Midway:20230318T000000
DTEND;TZID=Pacific/Midway:20230319T235900
CATEGORIES:car, "&amp", motorcycle, speed, tracking
LOCATION:Road Atlanta
WEBSITE:http://www.chinmotorsports.com
URL:http://www.chinmotorsports.com
CONTACT:Mark Hicks 706-658-4114
ORGANIZER:Chin Motorsports
ATTACH;FMTTYPE="image/jpeg":http://storage.ning.com/topology/rest/1.0/
 file/get/967700167?profile=original
ATTENDEE;ROLE=REQ-PARTICIPANT;PARTSTAT=ACCEPTED;RSVP=TRUE;CN="Michael 
 Thies":https://www.southeastwheelsevents.com/profile/MichaelThies
END:VEVENT
END:VCALENDAR
