BEGIN:VCALENDAR
PRODID:NingEventWidget-v1
VERSION:2.0
METHOD:PUBLISH
BEGIN:VTIMEZONE
TZID:Pacific/Midway
X-LIC-LOCATION:Pacific/Midway
BEGIN:STANDARD
TZOFFSETFROM:-1100
TZOFFSETTO:-1100
TZNAME:SST
DTSTART:19700101T000000
END:STANDARD
END:VTIMEZONE
BEGIN:VEVENT
UID:5072275:Event:837547
DTSTAMP:20260423T012929Z
SUMMARY:Chipn Away at Heart Disease Cardiac Car & Bike Show -Warner Ro
 bins, Ga
DESCRIPTION:The 3rd Annual Chipn Away at Heart Disease Cardiac Car Sh
 ow will be held at the Houston Mall in Warner Robins, Georgia on Novem
 ber 1st, 2014.Location:-Houston Mall in Warner Robins, Georgia(233 N. 
 Houston Road, Warner Robins, GA 31093)Registration:-$25 entry fee-FREE
  for spectatorsRain date is November 8th, 2014! Fun for all ages! All 
 Makes, Models and Year of Vehicles are welcome! Bikes, Cars, and Truck
 s! Trophies 30 Best Of - Specialty Awards; Club Participation Award; K
 id's Choice Award, Chance to win a Mossberg Rifle. All proceeds will b
 enefit the GA Transplant Foundation.Event Hours:-Registration is at 8:
 00am-Judging begins at 11:00am-Awards at 3:00pmPlease Contact For More
  Information:-(478) 396-8224\n\nFor more information visit https://www
 .southeastwheelsevents.com/events/chipn-away-at-heart-disease-cardiac-
 car-bike-show-warner-robins-g
DTSTART;TZID=Pacific/Midway:20141101T080000
DTEND;TZID=Pacific/Midway:20141101T160000
CATEGORIES:car, "&", motorcycle, show
LOCATION:Houston Mall
WEBSITE:
URL:
CONTACT:(478) 396-8224
ORGANIZER:GA Transplant Foundation
ATTACH;FMTTYPE="image/jpeg":http://storage.ning.com/topology/rest/1.0/
 file/get/967672902?profile=original
ATTENDEE;ROLE=REQ-PARTICIPANT;PARTSTAT=ACCEPTED;RSVP=TRUE;CN="Chuck Aa
 ron":https://www.southeastwheelsevents.com/profile/ChuckAaron
END:VEVENT
END:VCALENDAR
