BEGIN:VCALENDAR
PRODID:NingEventWidget-v1
VERSION:2.0
METHOD:PUBLISH
BEGIN:VTIMEZONE
TZID:Pacific/Midway
X-LIC-LOCATION:Pacific/Midway
BEGIN:STANDARD
TZOFFSETFROM:-1100
TZOFFSETTO:-1100
TZNAME:SST
DTSTART:19700101T000000
END:STANDARD
END:VTIMEZONE
BEGIN:VEVENT
UID:5072275:Event:1238853
DTSTAMP:20260423T061006Z
SUMMARY:Chowder Club Monthly Meeting -Snellville, GA
DESCRIPTION:Welcome to the Chowder Club Monthly Meeting\r\nSeptember 1
 5, 2022\r\nLunch & Event:\r\nWhen:\r\n11:15 A.M.\r\nEl Jinte Mexican R
 estaurant\r\n3303 Centerville Hwy Suite 7\r\nSnellville, GA 30039\r\nĀ
  \r\nAfter Lunch\r\nDick Maury's Garage\r\n3601 Jasmine Cove Lane\r\nS
 nellville, GA 30039\r\nSpecial Note: pull on into the driveway or in f
 ront of the garage. If parking\r\non the street, park downhill from th
 e mailbox.\n\nFor more information visit https://www.southeastwheelsev
 ents.com/events/chowder-club-monthly-meeting-snellville-ga
DTSTART;TZID=Pacific/Midway:20220915T111500
DTEND;TZID=Pacific/Midway:20220915T150000
CATEGORIES:club, meeting, car, show
LOCATION:El Jinte Mexican Restaurant
WEBSITE:http://www.georgiajag.com/chowder.html
URL:http://www.georgiajag.com/chowder.html
CONTACT:
ORGANIZER:Georgia Jag
ATTACH;FMTTYPE="image/jpeg":https://storage.ning.com/topology/rest/1.0
 /file/get/10811530473?profile=original
ATTENDEE;ROLE=REQ-PARTICIPANT;PARTSTAT=ACCEPTED;RSVP=TRUE;CN="Chuck Aa
 ron":https://www.southeastwheelsevents.com/profile/ChuckAaron886
END:VEVENT
END:VCALENDAR
