BEGIN:VCALENDAR
PRODID:NingEventWidget-v1
VERSION:2.0
METHOD:PUBLISH
BEGIN:VTIMEZONE
TZID:Pacific/Midway
X-LIC-LOCATION:Pacific/Midway
BEGIN:STANDARD
TZOFFSETFROM:-1100
TZOFFSETTO:-1100
TZNAME:SST
DTSTART:19700101T000000
END:STANDARD
END:VTIMEZONE
BEGIN:VEVENT
UID:5072275:Event:1062446
DTSTAMP:20260425T033757Z
SUMMARY:Christ The Restorer Inc. 1st Annual Car Show, Norcross, GA
DESCRIPTION:Christ The Restorer Ministry's first annual car show; rais
 ing funds, to help Benefit the Homeless of Atlanta\n\nFor more inform
 ation visit https://www.southeastwheelsevents.com/events/christ-the-re
 storer-inc-1st-annual-car-show-norcross-ga
DTSTART;TZID=Pacific/Midway:20170826T090000
DTEND;TZID=Pacific/Midway:20170826T153000
CATEGORIES:fundraiser, benefitting, the, homeless, of, atlanta
LOCATION:Hopewell Church Parking Lot West
WEBSITE:http://ChristTheRestorerMinistry.org
URL:http://ChristTheRestorerMinistry.org
CONTACT:770-596-7391
ORGANIZER:Christ The Restorer Ministry
ATTACH;FMTTYPE="image/jpeg":
ATTENDEE;ROLE=REQ-PARTICIPANT;PARTSTAT=ACCEPTED;RSVP=TRUE;CN="Thomas T
 aylor":https://www.southeastwheelsevents.com/profile/ThomasTaylor
END:VEVENT
END:VCALENDAR
