BEGIN:VCALENDAR
PRODID:NingEventWidget-v1
VERSION:2.0
METHOD:PUBLISH
BEGIN:VTIMEZONE
TZID:Pacific/Midway
X-LIC-LOCATION:Pacific/Midway
BEGIN:STANDARD
TZOFFSETFROM:-1100
TZOFFSETTO:-1100
TZNAME:SST
DTSTART:19700101T000000
END:STANDARD
END:VTIMEZONE
BEGIN:VEVENT
UID:5072275:Event:843253
DTSTAMP:20260423T210023Z
SUMMARY:Christiana Lutheran Church Pride & Polish Classic Car Show -Sa
 lisbury, NC
DESCRIPTION:Annual Christiana Lutheran Church Pride & Polish Classic C
 ar Show -Salisbury, NC\r\nPre-1980 Vehicles Only\n\nFor more informati
 on visit https://www.southeastwheelsevents.com/events/christiana-luthe
 ran-church-pride-polish-classic-car-show-salisbur
DTSTART;TZID=Pacific/Midway:20171104T100000
DTEND;TZID=Pacific/Midway:20171104T140000
CATEGORIES:car-show
LOCATION:Christiana Lutheran Church
WEBSITE:
URL:
CONTACT:704-279-4655
ORGANIZER:Christiana Lutheran Church
ATTACH;FMTTYPE="image/jpeg":http://storage.ning.com/topology/rest/1.0/
 file/get/967675479?profile=original
ATTENDEE;ROLE=REQ-PARTICIPANT;PARTSTAT=ACCEPTED;RSVP=TRUE;CN="Chuck Aa
 ron":https://www.southeastwheelsevents.com/profile/ChuckAaron
END:VEVENT
END:VCALENDAR
