BEGIN:VCALENDAR
PRODID:NingEventWidget-v1
VERSION:2.0
METHOD:PUBLISH
BEGIN:VTIMEZONE
TZID:Pacific/Midway
X-LIC-LOCATION:Pacific/Midway
BEGIN:STANDARD
TZOFFSETFROM:-1100
TZOFFSETTO:-1100
TZNAME:SST
DTSTART:19700101T000000
END:STANDARD
END:VTIMEZONE
BEGIN:VEVENT
UID:5072275:Event:1095518
DTSTAMP:20260424T125803Z
SUMMARY:Chrome, Rubber and Rust Car Show - Mauldin, Sc
DESCRIPTION:All Vehicles are welcome, please bring school supplies. Re
 gistration is $20 from 10 to 1. Awards @ 2.\n\nFor more information vi
 sit https://www.southeastwheelsevents.com/events/chrome-rubber-and-rus
 t-car-show-mauldin-sc
DTSTART;TZID=Pacific/Midway:20180818T100000
DTEND;TZID=Pacific/Midway:20180818T140000
CATEGORIES:car, show, cruise-in
LOCATION:Mauldin Cultural Center
WEBSITE:https://www.google.com/maps/place/Mauldin+Cultural+Center/@34.
 7796647,-82.3085908,17z/data=!3m1!4b1!4m5!3m4!1s0x885825e3e3a773c3:0xe
 4022525b15226c3!8m2!3d34.7796647!4d-82.3064021
URL:https://www.google.com/maps/place/Mauldin+Cultural+Center/@34.7796
 647,-82.3085908,17z/data=!3m1!4b1!4m5!3m4!1s0x885825e3e3a773c3:0xe4022
 525b15226c3!8m2!3d34.7796647!4d-82.3064021
CONTACT:864-995-8396
ORGANIZER:
ATTACH;FMTTYPE="image/jpeg":http://storage.ning.com/topology/rest/1.0/
 file/get/967790352?profile=original
ATTENDEE;ROLE=REQ-PARTICIPANT;PARTSTAT=ACCEPTED;RSVP=TRUE;CN="Anthony 
 Hopkins":https://www.southeastwheelsevents.com/profile/AnthonyHopkins
END:VEVENT
END:VCALENDAR
