BEGIN:VCALENDAR
PRODID:NingEventWidget-v1
VERSION:2.0
METHOD:PUBLISH
BEGIN:VTIMEZONE
TZID:Pacific/Midway
X-LIC-LOCATION:Pacific/Midway
BEGIN:STANDARD
TZOFFSETFROM:-1100
TZOFFSETTO:-1100
TZNAME:SST
DTSTART:19700101T000000
END:STANDARD
END:VTIMEZONE
BEGIN:VEVENT
UID:5072275:Event:474540
DTSTAMP:20260420T062005Z
SUMMARY:Chump Car Races at Road Atlanta - Braselton, GA
DESCRIPTION:Chump Car - Road Atlanta - February 11th\nOur first road r
 ace of 2012 is this weekend at Road Atlanta. We have a 10 hour enduran
 ce race on Saturday from 8am to 6pm, and a 4 hour race on Sunday from 
 12-4pm. There is a cold front moving through Saturday morning and the 
 highs are going to be in the upper 30s. Our car is open cockpit so we 
 are going to freeze our butts off!! Here is a live timing link that s
 hould go active once the race starts tomorrow if anyone wants to follo
 w along with our progress, just scroll down to the Eastern Region: ht
 tp://www.chumpcar.com/dev/cms/index.php?id=10Our team name is Flat Out
  Racing and our car number is 23.\n\n\nFor more information visit http
 s://www.southeastwheelsevents.com/events/chump-car-races-at-road-atlan
 ta-braselton-ga
DTSTART;TZID=Pacific/Midway:20120211T000000
DTEND;TZID=Pacific/Midway:20120211T235900
CATEGORIES:chump, races
LOCATION:Road Atlanta
WEBSITE:http://www.chumpcar.com/dev/cms/index.php?id=10
URL:http://www.chumpcar.com/dev/cms/index.php?id=10
CONTACT:352-225-1210
ORGANIZER:KSR Florida
ATTACH;FMTTYPE="image/jpeg":
ATTENDEE;ROLE=REQ-PARTICIPANT;PARTSTAT=ACCEPTED;RSVP=TRUE;CN="Snitch A
 dams":https://www.southeastwheelsevents.com/profile/SnitchAdams
ATTENDEE;ROLE=REQ-PARTICIPANT;PARTSTAT=ACCEPTED;RSVP=TRUE;CN="Michael 
 Thies":https://www.southeastwheelsevents.com/profile/MichaelThies
END:VEVENT
END:VCALENDAR
