BEGIN:VCALENDAR
PRODID:NingEventWidget-v1
VERSION:2.0
METHOD:PUBLISH
BEGIN:VTIMEZONE
TZID:Pacific/Midway
X-LIC-LOCATION:Pacific/Midway
BEGIN:STANDARD
TZOFFSETFROM:-1100
TZOFFSETTO:-1100
TZNAME:SST
DTSTART:19700101T000000
END:STANDARD
END:VTIMEZONE
BEGIN:VEVENT
UID:5072275:Event:976050
DTSTAMP:20260422T212202Z
SUMMARY:Circle yer Wagons - Sevierville, TN
DESCRIPTION:\n\nFor more information visit https://www.southeastwheels
 events.com/events/circle-yer-wagons-sevierville-tn
DTSTART;TZID=Pacific/Midway:20160430T000000
DTEND;TZID=Pacific/Midway:20160501T235900
CATEGORIES:all, vw, car-show, festival
LOCATION:Sevier County Fair Grounds
WEBSITE:
URL:
CONTACT:
ORGANIZER:
ATTACH;FMTTYPE="image/jpeg":http://storage.ning.com/topology/rest/1.0/
 file/get/967703530?profile=original
ATTENDEE;ROLE=REQ-PARTICIPANT;PARTSTAT=ACCEPTED;RSVP=TRUE;CN="Chuck Aa
 ron":https://www.southeastwheelsevents.com/profile/ChuckAaron
END:VEVENT
END:VCALENDAR
