BEGIN:VCALENDAR
PRODID:NingEventWidget-v1
VERSION:2.0
METHOD:PUBLISH
BEGIN:VTIMEZONE
TZID:Pacific/Midway
X-LIC-LOCATION:Pacific/Midway
BEGIN:STANDARD
TZOFFSETFROM:-1100
TZOFFSETTO:-1100
TZNAME:SST
DTSTART:19700101T000000
END:STANDARD
END:VTIMEZONE
BEGIN:VEVENT
UID:5072275:Event:1175141
DTSTAMP:20260423T132756Z
SUMMARY:CITY ELECTRIC SUPPLY
DESCRIPTION:\r\nJoin us for our 3rd Annual Car Show and have a great t
 ime with friends and fellow car enthusiast! All makes and models welco
 me! $20 Entry fee! Spectators Free! Goody Bags for all entrants! Peopl
 e's Choice Top 25, plus specialty awards! All proceeds benefit the Chi
 ldren's White Christmas Program! Any questions, please call Jerry Gord
 on 678-283-6188\r\n\r\n\r\n\r\n\r\n\r\n\r\n\r\n\r\n\r\n\r\n\r\nSaturda
 y, August 17, 2019 at 10 AM – 2 PM\r\n\r\nNext Week · 68–84°F 
 Partly Cloudy\r\n\r\n\r\n\r\n\r\n\r\n\r\n\r\n\r\n\r\n\r\n\r\n\r\n\r\n\
 r\n\r\n\r\n\r\n\r\n\r\n\r\n\r\n\r\n\r\n\r\n2451 Hilton Ct, Gainesville
 , GA 30501-6266, United States\r\n\r\n\r\n\r\n\r\n\r\n\r\n\r\n\r\n\r\
 n\r\n\r\n\n\nFor more information visit https://www.southeastwheelseve
 nts.com/events/city-electric-supply
DTSTART;TZID=Pacific/Midway:20190817T100000
DTEND;TZID=Pacific/Midway:20190817T140000
CATEGORIES:3rd, annual, car, show, benefitting, childrens, white, chri
 stmas, program
LOCATION:CITY ELECTRIC SUPPLY
WEBSITE:
URL:
CONTACT:
ORGANIZER:
ATTACH;FMTTYPE="image/jpeg":https://storage.ning.com/topology/rest/1.0
 /file/get/3418015028?profile=original
ATTENDEE;ROLE=REQ-PARTICIPANT;PARTSTAT=TENTATIVE;RSVP=TRUE;CN="John Sm
 ith":https://www.southeastwheelsevents.com/profile/JohnSmith967
ATTENDEE;ROLE=REQ-PARTICIPANT;PARTSTAT=TENTATIVE;RSVP=TRUE;CN="Jeffrey
  Rutherford":https://www.southeastwheelsevents.com/profile/JeffreyRuth
 erford866
END:VEVENT
END:VCALENDAR
