BEGIN:VCALENDAR
PRODID:NingEventWidget-v1
VERSION:2.0
METHOD:PUBLISH
BEGIN:VTIMEZONE
TZID:Pacific/Midway
X-LIC-LOCATION:Pacific/Midway
BEGIN:STANDARD
TZOFFSETFROM:-1100
TZOFFSETTO:-1100
TZNAME:SST
DTSTART:19700101T000000
END:STANDARD
END:VTIMEZONE
BEGIN:VEVENT
UID:5072275:Event:1224880
DTSTAMP:20260423T184527Z
SUMMARY:City of Doraville 150th anniversary
DESCRIPTION:Car show for the City of Doraville 150th Anniversary, and 
 celebrating the GM Assembly Plant Legacy! First 100 cars good bags, Pe
 ople choice trophies, Food trucks, Music and a Kids area! Truly a grea
 t community event for the entire family!11 AM until 3pm ; just inside 
 the perimeter next to 3rd rail studios! the car show will be located o
 n Assembly Line Drive\n\nFor more information visit https://www.southe
 astwheelsevents.com/events/city-of-doraville-150th-anniversary
DTSTART;TZID=Pacific/Midway:20210626T110000
DTEND;TZID=Pacific/Midway:20210626T150000
CATEGORIES:doraville, 150thanniversary
LOCATION:Assembley Line Drive Doraville GA
WEBSITE:http://C5carshows.com
URL:http://C5carshows.com
CONTACT:770 457-0209
ORGANIZER;CN="Faron Stephens":https://www.southeastwheelsevents.com/pr
 ofile/FaronStephens
ATTACH;FMTTYPE="image/jpeg":https://storage.ning.com/topology/rest/1.0
 /file/get/9052439299?profile=original
ATTENDEE;ROLE=REQ-PARTICIPANT;PARTSTAT=ACCEPTED;RSVP=TRUE;CN="Michael 
 Thies":https://www.southeastwheelsevents.com/profile/MichaelThies
ATTENDEE;ROLE=REQ-PARTICIPANT;PARTSTAT=ACCEPTED;RSVP=TRUE;CN="Faron St
 ephens":https://www.southeastwheelsevents.com/profile/FaronStephens
ATTENDEE;ROLE=REQ-PARTICIPANT;PARTSTAT=ACCEPTED;RSVP=TRUE;CN="paul ket
 terer":https://www.southeastwheelsevents.com/profile/paulketterer
END:VEVENT
END:VCALENDAR
