BEGIN:VCALENDAR
PRODID:NingEventWidget-v1
VERSION:2.0
METHOD:PUBLISH
BEGIN:VTIMEZONE
TZID:Pacific/Midway
X-LIC-LOCATION:Pacific/Midway
BEGIN:STANDARD
TZOFFSETFROM:-1100
TZOFFSETTO:-1100
TZNAME:SST
DTSTART:19700101T000000
END:STANDARD
END:VTIMEZONE
BEGIN:VEVENT
UID:5072275:Event:1101970
DTSTAMP:20260424T045842Z
SUMMARY:Clarksville Speedway Nostalgia Drags and Car Show - Clarksvill
 e, Tn
DESCRIPTION:Clarksville Speedway Nostalgia Drags and Car Show at Clark
 sville Speedway.\n\nFor more information visit https://www.southeastwh
 eelsevents.com/events/clarksville-speedway-nostalgia-drags-and-car-sho
 w-clarksville-tn
DTSTART;TZID=Pacific/Midway:20180929T180000
DTEND;TZID=Pacific/Midway:20180930T190000
CATEGORIES:car, show, cruise, in
LOCATION:Clarksville Speedway,
WEBSITE:http://clarksvillespeedway.com
URL:http://clarksvillespeedway.com
CONTACT:(615) 495-7719, (615) 506-2966
ORGANIZER:
ATTACH;FMTTYPE="image/jpeg":http://storage.ning.com/topology/rest/1.0/
 file/get/967798116?profile=original
ATTENDEE;ROLE=REQ-PARTICIPANT;PARTSTAT=ACCEPTED;RSVP=TRUE;CN="Anthony 
 Hopkins":https://www.southeastwheelsevents.com/profile/AnthonyHopkins
END:VEVENT
END:VCALENDAR
