BEGIN:VCALENDAR
PRODID:NingEventWidget-v1
VERSION:2.0
METHOD:PUBLISH
BEGIN:VTIMEZONE
TZID:Pacific/Midway
X-LIC-LOCATION:Pacific/Midway
BEGIN:STANDARD
TZOFFSETFROM:-1100
TZOFFSETTO:-1100
TZNAME:SST
DTSTART:19700101T000000
END:STANDARD
END:VTIMEZONE
BEGIN:VEVENT
UID:5072275:Event:1238624
DTSTAMP:20260423T152755Z
SUMMARY:Classic Auto Rides 2nd Annual Buford Auto Summit!!!!
DESCRIPTION:Come out for a great time and help us support great local 
 charities!  We will have various food trucks on-site, amazing giveawa
 ys including a 454 and LS engine, activities for kids and over 50 awar
 ds!!!\n\nFor more information visit https://www.southeastwheelsevents.
 com/events/classic-auto-rides-2nd-annual-buford-auto-summit-1
DTSTART;TZID=Pacific/Midway:20220924T090000
DTEND;TZID=Pacific/Midway:20220924T150000
CATEGORIES:501-c3, fundraiser
LOCATION:Buford High School
WEBSITE:https://classicautoridesga.com/
URL:https://classicautoridesga.com/
CONTACT:6785245638
ORGANIZER;CN="Dustin Williams":https://www.southeastwheelsevents.com/p
 rofile/DustinWilliams
ATTACH;FMTTYPE="image/jpeg":https://storage.ning.com/topology/rest/1.0
 /file/get/10811122267?profile=original
ATTENDEE;ROLE=REQ-PARTICIPANT;PARTSTAT=ACCEPTED;RSVP=TRUE;CN="Dustin W
 illiams":https://www.southeastwheelsevents.com/profile/DustinWilliams
ATTENDEE;ROLE=REQ-PARTICIPANT;PARTSTAT=TENTATIVE;RSVP=TRUE;CN="Emil ve
 lez":https://www.southeastwheelsevents.com/profile/Emilvelez835
END:VEVENT
END:VCALENDAR
