BEGIN:VCALENDAR
PRODID:NingEventWidget-v1
VERSION:2.0
METHOD:PUBLISH
BEGIN:VTIMEZONE
TZID:Pacific/Midway
X-LIC-LOCATION:Pacific/Midway
BEGIN:STANDARD
TZOFFSETFROM:-1100
TZOFFSETTO:-1100
TZNAME:SST
DTSTART:19700101T000000
END:STANDARD
END:VTIMEZONE
BEGIN:VEVENT
UID:5072275:Event:1200390
DTSTAMP:20260420T103758Z
SUMMARY:Classic Car and Truck Show - Williamston, Sc
DESCRIPTION:This car show is organized at the Anderson Motor Speedway
 .\n\nFor more information visit https://www.southeastwheelsevents.com/
 events/classic-car-and-truck-show-williamston-sc
DTSTART;TZID=Pacific/Midway:20200919T170000
DTEND;TZID=Pacific/Midway:20200919T210000
CATEGORIES:car, show, cruise-in, antique, "cars.", vintage, classic, c
 ars, cruise, in
LOCATION:Anderson Motor Speedway,
WEBSITE:https://www.facebook.com/events/185821919337325/
URL:https://www.facebook.com/events/185821919337325/
CONTACT:864-226-5481; amspeedway@gmail.com
ORGANIZER:
ATTACH;FMTTYPE="image/jpeg":https://storage.ning.com/topology/rest/1.0
 /file/get/833479952?profile=original
ATTENDEE;ROLE=REQ-PARTICIPANT;PARTSTAT=ACCEPTED;RSVP=TRUE;CN="Anthony 
 Hopkins":https://www.southeastwheelsevents.com/profile/AnthonyHopkins
END:VEVENT
END:VCALENDAR
