BEGIN:VCALENDAR
PRODID:NingEventWidget-v1
VERSION:2.0
METHOD:PUBLISH
BEGIN:VTIMEZONE
TZID:Pacific/Midway
X-LIC-LOCATION:Pacific/Midway
BEGIN:STANDARD
TZOFFSETFROM:-1100
TZOFFSETTO:-1100
TZNAME:SST
DTSTART:19700101T000000
END:STANDARD
END:VTIMEZONE
BEGIN:VEVENT
UID:5072275:Event:1189009
DTSTAMP:20260420T030707Z
SUMMARY:Classic Car Cruise In - Lake Mary, Fl
DESCRIPTION:This show is organized each month on the third or last Sun
 day.\n\nFor more information visit https://www.southeastwheelsevents.c
 om/events/classic-car-cruise-in-lake-mary-fl
DTSTART;TZID=Pacific/Midway:20200223T100000
DTEND;TZID=Pacific/Midway:20200223T130000
CATEGORIES:car, show, cruise-in
LOCATION:Lake Mary Central Park,
WEBSITE:https://www.lakemaryfl.com/parks-and-recreation/pages/upcoming
 -2019-events
URL:https://www.lakemaryfl.com/parks-and-recreation/pages/upcoming-201
 9-events
CONTACT:(407) 585-1421; jhempel@lakemaryfl.com
ORGANIZER:J Hempel
ATTACH;FMTTYPE="image/jpeg":https://storage.ning.com/topology/rest/1.0
 /file/get/833479952?profile=original
ATTENDEE;ROLE=REQ-PARTICIPANT;PARTSTAT=ACCEPTED;RSVP=TRUE;CN="Anthony 
 Hopkins":https://www.southeastwheelsevents.com/profile/AnthonyHopkins
END:VEVENT
END:VCALENDAR
