BEGIN:VCALENDAR
PRODID:NingEventWidget-v1
VERSION:2.0
METHOD:PUBLISH
BEGIN:VTIMEZONE
TZID:Pacific/Midway
X-LIC-LOCATION:Pacific/Midway
BEGIN:STANDARD
TZOFFSETFROM:-1100
TZOFFSETTO:-1100
TZNAME:SST
DTSTART:19700101T000000
END:STANDARD
END:VTIMEZONE
BEGIN:VEVENT
UID:5072275:Event:1198363
DTSTAMP:20260423T143902Z
SUMMARY:Classic Car Cruise In - Sandford, Fl
DESCRIPTION:This car show is organized each month on the last Saturday
 .\n\nFor more information visit https://www.southeastwheelsevents.com/
 events/classic-car-cruise-in-sandford-fl
DTSTART;TZID=Pacific/Midway:20201226T170000
DTEND;TZID=Pacific/Midway:20201226T210000
CATEGORIES:car, show, cruise-in, antique, "cars.", vintage, classic, c
 ars
LOCATION:Sanford Riverwalk,
WEBSITE:https://www.facebook.com/Celery-City-Cruisers-295393653858683/
URL:https://www.facebook.com/Celery-City-Cruisers-295393653858683/
CONTACT:jdanoshine99@yahoo.com'; (407) 323-8844
ORGANIZER:
ATTACH;FMTTYPE="image/jpeg":https://storage.ning.com/topology/rest/1.0
 /file/get/3828795901?profile=original
ATTENDEE;ROLE=REQ-PARTICIPANT;PARTSTAT=ACCEPTED;RSVP=TRUE;CN="Anthony 
 Hopkins":https://www.southeastwheelsevents.com/profile/AnthonyHopkins
END:VEVENT
END:VCALENDAR
