BEGIN:VCALENDAR
PRODID:NingEventWidget-v1
VERSION:2.0
METHOD:PUBLISH
BEGIN:VTIMEZONE
TZID:Pacific/Midway
X-LIC-LOCATION:Pacific/Midway
BEGIN:STANDARD
TZOFFSETFROM:-1100
TZOFFSETTO:-1100
TZNAME:SST
DTSTART:19700101T000000
END:STANDARD
END:VTIMEZONE
BEGIN:VEVENT
UID:5072275:Event:1183719
DTSTAMP:20260423T150532Z
SUMMARY:Classic Car Group Cruise In - Newberry, Sc
DESCRIPTION:This gathering is for people and families that claim or lo
 ve great cars, trucks, cruisers, and muscle vehicles.\n\nFor more info
 rmation visit https://www.southeastwheelsevents.com/events/classic-car
 -group-cruise-in-newberry-sc
DTSTART;TZID=Pacific/Midway:20200229T120000
DTEND;TZID=Pacific/Midway:20200229T140000
CATEGORIES:classic, car, muscle, cars, show, truck, motorcycle, cruise
 -in
LOCATION:Newberry, Sc
WEBSITE:https://www.google.com/maps?q=1624+Wilson+Road,+Newberry,+Sc&a
 mp;um=1&amp;ie=UTF-8&amp;sa=X&amp;ved=2ahUKEwiEh-yt1sLmAhUIeCsKHYuSAnY
 Q_AUoAXoECA0QAw
URL:https://www.google.com/maps?q=1624+Wilson+Road,+Newberry,+Sc&amp;u
 m=1&amp;ie=UTF-8&amp;sa=X&amp;ved=2ahUKEwiEh-yt1sLmAhUIeCsKHYuSAnYQ_AU
 oAXoECA0QAw
CONTACT:803 321 9090
ORGANIZER:Zeb Reid
ATTACH;FMTTYPE="image/jpeg":https://storage.ning.com/topology/rest/1.0
 /file/get/874745500?profile=original
ATTENDEE;ROLE=REQ-PARTICIPANT;PARTSTAT=ACCEPTED;RSVP=TRUE;CN="Anthony 
 Hopkins":https://www.southeastwheelsevents.com/profile/AnthonyHopkins
END:VEVENT
END:VCALENDAR
