BEGIN:VCALENDAR
PRODID:NingEventWidget-v1
VERSION:2.0
METHOD:PUBLISH
BEGIN:VTIMEZONE
TZID:Pacific/Midway
X-LIC-LOCATION:Pacific/Midway
BEGIN:STANDARD
TZOFFSETFROM:-1100
TZOFFSETTO:-1100
TZNAME:SST
DTSTART:19700101T000000
END:STANDARD
END:VTIMEZONE
BEGIN:VEVENT
UID:5072275:Event:1194009
DTSTAMP:20260423T083823Z
SUMMARY:Classic Car Show - Boca Raton, Fl
DESCRIPTION:This show is organized each month on the first Wednesday. 
 Free shirts for the first 50 participants.\nRegistration fee is free.\
 n\nFor more information visit https://www.southeastwheelsevents.com/ev
 ents/classic-car-show-boca-raton-fl-2
DTSTART;TZID=Pacific/Midway:20200701T180000
DTEND;TZID=Pacific/Midway:20200701T210000
CATEGORIES:car, show, cruise-in
LOCATION:Talia's Tuscan Table,
WEBSITE:https://www.google.com/maps?client=firefox-b-d&amp;amp;amp;amp
 ;amp;amp;amp;q=Venue:+Talia%27s+Tuscan+Table+Address:+4070+N+Dixie+Hig
 hway,+Boca+Raton,+Florida+33431&amp;amp;amp;amp;amp;amp;amp;um=1&amp;a
 mp;amp;amp;amp;amp;amp;ie=UTF-8&amp;amp;amp;amp;amp;amp;amp;sa=X&amp;a
 mp;amp;amp;amp;amp;amp;ved=2ahUKEwj8t4fOoqfnAhUhguYKHdumBgMQ_AUoAXoECB
 IQAw
URL:https://www.google.com/maps?client=firefox-b-d&amp;amp;amp;amp;amp
 ;amp;amp;q=Venue:+Talia%27s+Tuscan+Table+Address:+4070+N+Dixie+Highway
 ,+Boca+Raton,+Florida+33431&amp;amp;amp;amp;amp;amp;amp;um=1&amp;amp;a
 mp;amp;amp;amp;amp;ie=UTF-8&amp;amp;amp;amp;amp;amp;amp;sa=X&amp;amp;a
 mp;amp;amp;amp;amp;ved=2ahUKEwj8t4fOoqfnAhUhguYKHdumBgMQ_AUoAXoECBIQAw
CONTACT:(954) 701-5760
ORGANIZER:
ATTACH;FMTTYPE="image/jpeg":https://storage.ning.com/topology/rest/1.0
 /file/get/3828795901?profile=original
ATTENDEE;ROLE=REQ-PARTICIPANT;PARTSTAT=ACCEPTED;RSVP=TRUE;CN="Anthony 
 Hopkins":https://www.southeastwheelsevents.com/profile/AnthonyHopkins
END:VEVENT
END:VCALENDAR
