BEGIN:VCALENDAR
PRODID:NingEventWidget-v1
VERSION:2.0
METHOD:PUBLISH
BEGIN:VTIMEZONE
TZID:Pacific/Midway
X-LIC-LOCATION:Pacific/Midway
BEGIN:STANDARD
TZOFFSETFROM:-1100
TZOFFSETTO:-1100
TZNAME:SST
DTSTART:19700101T000000
END:STANDARD
END:VTIMEZONE
BEGIN:VEVENT
UID:5072275:Event:1190997
DTSTAMP:20260422T124836Z
SUMMARY:Classic Car Show - Bowman, Ga
DESCRIPTION:This classic car show is organized at Bowman City Park.\n\
 nFor more information visit https://www.southeastwheelsevents.com/even
 ts/classic-car-show-bowman-ga
DTSTART;TZID=Pacific/Midway:20200418T090000
DTEND;TZID=Pacific/Midway:20200418T170000
CATEGORIES:car, show, cruise-in, antique, "cars.", vintage, classic, c
 ars
LOCATION:Bowman City Park,
WEBSITE:
URL:
CONTACT:706-245-5432
ORGANIZER:
ATTACH;FMTTYPE="image/jpeg":https://storage.ning.com/topology/rest/1.0
 /file/get/3817484162?profile=original
ATTENDEE;ROLE=REQ-PARTICIPANT;PARTSTAT=ACCEPTED;RSVP=TRUE;CN="Anthony 
 Hopkins":https://www.southeastwheelsevents.com/profile/AnthonyHopkins
END:VEVENT
END:VCALENDAR
