BEGIN:VCALENDAR
PRODID:NingEventWidget-v1
VERSION:2.0
METHOD:PUBLISH
BEGIN:VTIMEZONE
TZID:Pacific/Midway
X-LIC-LOCATION:Pacific/Midway
BEGIN:STANDARD
TZOFFSETFROM:-1100
TZOFFSETTO:-1100
TZNAME:SST
DTSTART:19700101T000000
END:STANDARD
END:VTIMEZONE
BEGIN:VEVENT
UID:5072275:Event:1180758
DTSTAMP:20260419T224840Z
SUMMARY:Classic Car Show - Corbin, Ky
DESCRIPTION:Event has DJ , awards and vendors. Car show is indoors an
 d outdoors.\n\n\nFor more information visit https://www.southeastwheel
 sevents.com/events/classic-car-show-corbin-ky-1
DTSTART;TZID=Pacific/Midway:20200523T080000
DTEND;TZID=Pacific/Midway:20200523T160000
CATEGORIES:car, show, cruise-in
LOCATION:Corbin Arena,
WEBSITE:https://www.google.com/maps?q=corbin+arena&amp;amp;amp;amp;biw
 =1280&amp;amp;amp;amp;bih=587&amp;amp;amp;amp;um=1&amp;amp;amp;amp;ie=
 UTF-8&amp;amp;amp;amp;sa=X&amp;amp;amp;amp;ved=0ahUKEwiboKen--zlAhWnH7
 cAHY0yD94Q_AUIDigB
URL:https://www.google.com/maps?q=corbin+arena&amp;amp;amp;amp;biw=128
 0&amp;amp;amp;amp;bih=587&amp;amp;amp;amp;um=1&amp;amp;amp;amp;ie=UTF-
 8&amp;amp;amp;amp;sa=X&amp;amp;amp;amp;ved=0ahUKEwiboKen--zlAhWnH7cAHY
 0yD94Q_AUIDigB
CONTACT:423-608-4519
ORGANIZER:Rodney Buckner; rodneybuckner@att.net
ATTACH;FMTTYPE="image/jpeg":https://storage.ning.com/topology/rest/1.0
 /file/get/3700516148?profile=original
ATTENDEE;ROLE=REQ-PARTICIPANT;PARTSTAT=ACCEPTED;RSVP=TRUE;CN="Anthony 
 Hopkins":https://www.southeastwheelsevents.com/profile/AnthonyHopkins
END:VEVENT
END:VCALENDAR
