BEGIN:VCALENDAR
PRODID:NingEventWidget-v1
VERSION:2.0
METHOD:PUBLISH
BEGIN:VTIMEZONE
TZID:Pacific/Midway
X-LIC-LOCATION:Pacific/Midway
BEGIN:STANDARD
TZOFFSETFROM:-1100
TZOFFSETTO:-1100
TZNAME:SST
DTSTART:19700101T000000
END:STANDARD
END:VTIMEZONE
BEGIN:VEVENT
UID:5072275:Event:1183199
DTSTAMP:20260422T143123Z
SUMMARY:CANCELLED -Classic Car Show - Dunwoddy, Ga
DESCRIPTION:Free to display your car.\r\nFree to Attend.\r\n3,000 cars
  and 20,000 car fans turn out each month\n\nFor more information visit
  https://www.southeastwheelsevents.com/events/classic-car-show-dunwodd
 y-ga-1
DTSTART;TZID=Pacific/Midway:20200607T080000
DTEND;TZID=Pacific/Midway:20200607T110000
CATEGORIES:car, show, cruise-in
LOCATION:Perimeter Mall – Dunwoody GA,
WEBSITE:https://www.caffeineandoctane.com
URL:https://www.caffeineandoctane.com
CONTACT:bruce@highoctaneevents.com
ORGANIZER:Bruce
ATTACH;FMTTYPE="image/jpeg":https://storage.ning.com/topology/rest/1.0
 /file/get/874745500?profile=original
ATTENDEE;ROLE=REQ-PARTICIPANT;PARTSTAT=ACCEPTED;RSVP=TRUE;CN="Anthony 
 Hopkins":https://www.southeastwheelsevents.com/profile/AnthonyHopkins
END:VEVENT
END:VCALENDAR
