BEGIN:VCALENDAR
PRODID:NingEventWidget-v1
VERSION:2.0
METHOD:PUBLISH
BEGIN:VTIMEZONE
TZID:Pacific/Midway
X-LIC-LOCATION:Pacific/Midway
BEGIN:STANDARD
TZOFFSETFROM:-1100
TZOFFSETTO:-1100
TZNAME:SST
DTSTART:19700101T000000
END:STANDARD
END:VTIMEZONE
BEGIN:VEVENT
UID:5072275:Event:1201141
DTSTAMP:20260422T140843Z
SUMMARY:Classic Car Show - Dunwoody, Ga
DESCRIPTION:This car show is organized at the Perimeter Mall.\n\nFor m
 ore information visit https://www.southeastwheelsevents.com/events/cla
 ssic-car-show-dunwoody-ga
DTSTART;TZID=Pacific/Midway:20201011T090000
DTEND;TZID=Pacific/Midway:20201011T113000
CATEGORIES:car, show, cruise-in, antique, "cars.", vintage, classic, c
 ars, cruise, in
LOCATION:Perimeter Mall,
WEBSITE:http://t.ly/LORk
URL:http://t.ly/LORk
CONTACT:info@highoctaneevents.com; +17703955860
ORGANIZER:
ATTACH;FMTTYPE="image/jpeg":https://storage.ning.com/topology/rest/1.0
 /file/get/7273967097?profile=original
ATTENDEE;ROLE=REQ-PARTICIPANT;PARTSTAT=ACCEPTED;RSVP=TRUE;CN="Anthony 
 Hopkins":https://www.southeastwheelsevents.com/profile/AnthonyHopkins
END:VEVENT
END:VCALENDAR
