BEGIN:VCALENDAR
PRODID:NingEventWidget-v1
VERSION:2.0
METHOD:PUBLISH
BEGIN:VTIMEZONE
TZID:Pacific/Midway
X-LIC-LOCATION:Pacific/Midway
BEGIN:STANDARD
TZOFFSETFROM:-1100
TZOFFSETTO:-1100
TZNAME:SST
DTSTART:19700101T000000
END:STANDARD
END:VTIMEZONE
BEGIN:VEVENT
UID:5072275:Event:1201250
DTSTAMP:20260423T170409Z
SUMMARY:Classic Car Show - Hampton, Ga
DESCRIPTION:This car show is organized at the Atlanta Motor Speedway.\
 n\nFor more information visit https://www.southeastwheelsevents.com/ev
 ents/classic-car-show-hampton-ga-2
DTSTART;TZID=Pacific/Midway:20200816T073000
DTEND;TZID=Pacific/Midway:20200816T170000
CATEGORIES:car, show, cruise-in, antique, "cars.", vintage, classic, c
 ars, cruise, in
LOCATION:Atlanta Motor Speedway,
WEBSITE:http://t.ly/FU4o
URL:http://t.ly/FU4o
CONTACT:+18779267849
ORGANIZER:
ATTACH;FMTTYPE="image/jpeg":https://storage.ning.com/topology/rest/1.0
 /file/get/7274542484?profile=original
ATTENDEE;ROLE=REQ-PARTICIPANT;PARTSTAT=ACCEPTED;RSVP=TRUE;CN="Anthony 
 Hopkins":https://www.southeastwheelsevents.com/profile/AnthonyHopkins
END:VEVENT
END:VCALENDAR
