BEGIN:VCALENDAR
PRODID:NingEventWidget-v1
VERSION:2.0
METHOD:PUBLISH
BEGIN:VTIMEZONE
TZID:Pacific/Midway
X-LIC-LOCATION:Pacific/Midway
BEGIN:STANDARD
TZOFFSETFROM:-1100
TZOFFSETTO:-1100
TZNAME:SST
DTSTART:19700101T000000
END:STANDARD
END:VTIMEZONE
BEGIN:VEVENT
UID:5072275:Event:1185826
DTSTAMP:20260422T131158Z
SUMMARY:Classic Car Show - Havana, Fl
DESCRIPTION:This show is organized every month on the Third Saturday a
 t Downtown Havana.\nSupported by Havana Main Street Program.\n\nFor mo
 re information visit https://www.southeastwheelsevents.com/events/clas
 sic-car-show-havana-fl-2
DTSTART;TZID=Pacific/Midway:20200418T160000
DTEND;TZID=Pacific/Midway:20200418T193000
CATEGORIES:car, show, cruise-in
LOCATION:Downtown Havana,
WEBSITE:https://www.havanamainstreet.com/
URL:https://www.havanamainstreet.com/
CONTACT:(850) 599-2623
ORGANIZER:Vic Vickers
ATTACH;FMTTYPE="image/jpeg":https://storage.ning.com/topology/rest/1.0
 /file/get/3821171619?profile=original
ATTENDEE;ROLE=REQ-PARTICIPANT;PARTSTAT=ACCEPTED;RSVP=TRUE;CN="Anthony 
 Hopkins":https://www.southeastwheelsevents.com/profile/AnthonyHopkins
END:VEVENT
END:VCALENDAR
