BEGIN:VCALENDAR
PRODID:NingEventWidget-v1
VERSION:2.0
METHOD:PUBLISH
BEGIN:VTIMEZONE
TZID:Pacific/Midway
X-LIC-LOCATION:Pacific/Midway
BEGIN:STANDARD
TZOFFSETFROM:-1100
TZOFFSETTO:-1100
TZNAME:SST
DTSTART:19700101T000000
END:STANDARD
END:VTIMEZONE
BEGIN:VEVENT
UID:5072275:Event:1184867
DTSTAMP:20260420T125337Z
SUMMARY:Classic Car Show - Lake Florida, Fl
DESCRIPTION:Hosted by South East Rods and Customs.\nOrganized each Mon
 day.\n\nFor more information visit https://www.southeastwheelsevents.c
 om/events/classic-car-show-lake-florida-fl
DTSTART;TZID=Pacific/Midway:20200210T170000
DTEND;TZID=Pacific/Midway:20200210T200000
CATEGORIES:car, show, cruise-in
LOCATION:Pirate's Well Restaurant And Bar,
WEBSITE:https://pirateswell.com/
URL:https://pirateswell.com/
CONTACT:(561) 753-3279; Donnie1247@aol.com
ORGANIZER:Donnie
ATTACH;FMTTYPE="image/jpeg":https://storage.ning.com/topology/rest/1.0
 /file/get/3788320342?profile=original
ATTENDEE;ROLE=REQ-PARTICIPANT;PARTSTAT=ACCEPTED;RSVP=TRUE;CN="Anthony 
 Hopkins":https://www.southeastwheelsevents.com/profile/AnthonyHopkins
END:VEVENT
END:VCALENDAR
