BEGIN:VCALENDAR
PRODID:NingEventWidget-v1
VERSION:2.0
METHOD:PUBLISH
BEGIN:VTIMEZONE
TZID:Pacific/Midway
X-LIC-LOCATION:Pacific/Midway
BEGIN:STANDARD
TZOFFSETFROM:-1100
TZOFFSETTO:-1100
TZNAME:SST
DTSTART:19700101T000000
END:STANDARD
END:VTIMEZONE
BEGIN:VEVENT
UID:5072275:Event:1192051
DTSTAMP:20260423T050656Z
SUMMARY:Classic Car Show - Naples, Fl
DESCRIPTION:This show is organized each month on the second Sunday at 
 Hello Coffee. The show is for Car lovers and is about the love of cars
 .\n\nFor more information visit https://www.southeastwheelsevents.com/
 events/classic-car-show-naples-fl-1
DTSTART;TZID=Pacific/Midway:20200809T080000
DTEND;TZID=Pacific/Midway:20200809T110000
CATEGORIES:car, show, cruise-in
LOCATION:Hello Coffee,
WEBSITE:https://www.google.com/maps?client=firefox-b-d&amp;amp;amp;amp
 ;amp;q=Venue:+Hello+Coffee+Address:+15495+Tamiami+Trail+North,+Naples,
 +Florida+34110&amp;amp;amp;amp;amp;um=1&amp;amp;amp;amp;amp;ie=UTF-8&a
 mp;amp;amp;amp;amp;sa=X&amp;amp;amp;amp;amp;ved=2ahUKEwiGnvftiZ3nAhWly
 zgGHetGDvYQ_AUoAXoECBAQAw
URL:https://www.google.com/maps?client=firefox-b-d&amp;amp;amp;amp;amp
 ;q=Venue:+Hello+Coffee+Address:+15495+Tamiami+Trail+North,+Naples,+Flo
 rida+34110&amp;amp;amp;amp;amp;um=1&amp;amp;amp;amp;amp;ie=UTF-8&amp;a
 mp;amp;amp;amp;sa=X&amp;amp;amp;amp;amp;ved=2ahUKEwiGnvftiZ3nAhWlyzgGH
 etGDvYQ_AUoAXoECBAQAw
CONTACT:(239) 228-7966; Hellocoffee2@gmail.com
ORGANIZER:
ATTACH;FMTTYPE="image/jpeg":https://storage.ning.com/topology/rest/1.0
 /file/get/3832309538?profile=original
ATTENDEE;ROLE=REQ-PARTICIPANT;PARTSTAT=ACCEPTED;RSVP=TRUE;CN="Anthony 
 Hopkins":https://www.southeastwheelsevents.com/profile/AnthonyHopkins
END:VEVENT
END:VCALENDAR
