BEGIN:VCALENDAR
PRODID:NingEventWidget-v1
VERSION:2.0
METHOD:PUBLISH
BEGIN:VTIMEZONE
TZID:Pacific/Midway
X-LIC-LOCATION:Pacific/Midway
BEGIN:STANDARD
TZOFFSETFROM:-1100
TZOFFSETTO:-1100
TZNAME:SST
DTSTART:19700101T000000
END:STANDARD
END:VTIMEZONE
BEGIN:VEVENT
UID:5072275:Event:1184033
DTSTAMP:20260419T085423Z
SUMMARY:Classic Car Show - North Charleston, Sc
DESCRIPTION:Our month to month meeting is held at the last Tuesday eve
 ry month at C and W Super Buffet, 6195 Rivers Ave, North Charleston, S
 C 29406. Meeting begins at 7:30, yet attempt to arrive at 6:30 to have
  some supper before the gathering. Would like to see you there!\n\nFor
  more information visit https://www.southeastwheelsevents.com/events/c
 lassic-car-show-north-charleston-sc
DTSTART;TZID=Pacific/Midway:20191231T193000
DTEND;TZID=Pacific/Midway:20191231T203000
CATEGORIES:car, show, cruise-in
LOCATION:C and W Super Buffet,
WEBSITE:https://www.google.com/maps?q=C+%26+W+Super+Buffet+North+Charl
 eston,+SC+29406,+United+States&amp;amp;amp;lsig=AB86z5WzkyfTwBttiDcGuz
 v_-hTt&amp;amp;amp;biw=1280&amp;amp;amp;bih=587&amp;amp;amp;um=1&amp;a
 mp;amp;ie=UTF-8&amp;amp;amp;sa=X&amp;amp;amp;ved=2ahUKEwiy3-ei09bmAhVC
 9nMBHd0UCN8Q_AUoAXoECBgQAw
URL:https://www.google.com/maps?q=C+%26+W+Super+Buffet+North+Charlesto
 n,+SC+29406,+United+States&amp;amp;amp;lsig=AB86z5WzkyfTwBttiDcGuzv_-h
 Tt&amp;amp;amp;biw=1280&amp;amp;amp;bih=587&amp;amp;amp;um=1&amp;amp;a
 mp;ie=UTF-8&amp;amp;amp;sa=X&amp;amp;amp;ved=2ahUKEwiy3-ei09bmAhVC9nMB
 Hd0UCN8Q_AUoAXoECBgQAw
CONTACT:843-572-0990
ORGANIZER:
ATTACH;FMTTYPE="image/jpeg":https://storage.ning.com/topology/rest/1.0
 /file/get/3788306144?profile=original
ATTENDEE;ROLE=REQ-PARTICIPANT;PARTSTAT=ACCEPTED;RSVP=TRUE;CN="Anthony 
 Hopkins":https://www.southeastwheelsevents.com/profile/AnthonyHopkins
END:VEVENT
END:VCALENDAR
