BEGIN:VCALENDAR
PRODID:NingEventWidget-v1
VERSION:2.0
METHOD:PUBLISH
BEGIN:VTIMEZONE
TZID:Pacific/Midway
X-LIC-LOCATION:Pacific/Midway
BEGIN:STANDARD
TZOFFSETFROM:-1100
TZOFFSETTO:-1100
TZNAME:SST
DTSTART:19700101T000000
END:STANDARD
END:VTIMEZONE
BEGIN:VEVENT
UID:5072275:Event:1189432
DTSTAMP:20260421T204830Z
SUMMARY:Classic Car Show - Orange Park, Fl
DESCRIPTION:This show is organized each month on the fourth Saturday. 
 Facilitated by the Clay County Cruzers.\n\nFor more information visit 
 https://www.southeastwheelsevents.com/events/classic-car-show-orange-p
 ark-fl
DTSTART;TZID=Pacific/Midway:20200822T080000
DTEND;TZID=Pacific/Midway:20200822T100000
CATEGORIES:car, show, cruise-in
LOCATION:Nicole's on the River,
WEBSITE:http://claycountycruzers.com/
URL:http://claycountycruzers.com/
CONTACT:tpudoff@outlook.com
ORGANIZER:T Pudoff
ATTACH;FMTTYPE="image/jpeg":https://storage.ning.com/topology/rest/1.0
 /file/get/833625167?profile=original
ATTENDEE;ROLE=REQ-PARTICIPANT;PARTSTAT=ACCEPTED;RSVP=TRUE;CN="Anthony 
 Hopkins":https://www.southeastwheelsevents.com/profile/AnthonyHopkins
END:VEVENT
END:VCALENDAR
