BEGIN:VCALENDAR
PRODID:NingEventWidget-v1
VERSION:2.0
METHOD:PUBLISH
BEGIN:VTIMEZONE
TZID:Pacific/Midway
X-LIC-LOCATION:Pacific/Midway
BEGIN:STANDARD
TZOFFSETFROM:-1100
TZOFFSETTO:-1100
TZNAME:SST
DTSTART:19700101T000000
END:STANDARD
END:VTIMEZONE
BEGIN:VEVENT
UID:5072275:Event:1190928
DTSTAMP:20260422T014057Z
SUMMARY:Classic Car Show - Orlando, Fl
DESCRIPTION:This event is organized at the  Orlando Speed World.\n\nF
 or more information visit https://www.southeastwheelsevents.com/events
 /classic-car-show-orlando-fl-16
DTSTART;TZID=Pacific/Midway:20200328T100000
DTEND;TZID=Pacific/Midway:20200328T234500
CATEGORIES:car, show, cruise-in
LOCATION:Orlando Speed World,
WEBSITE:https://www.diablosport.com/
URL:https://www.diablosport.com/
CONTACT:(801) 317-1064; mbarker@powerteq.com
ORGANIZER:M Barker
ATTACH;FMTTYPE="image/jpeg":https://storage.ning.com/topology/rest/1.0
 /file/get/3722329330?profile=original
ATTENDEE;ROLE=REQ-PARTICIPANT;PARTSTAT=ACCEPTED;RSVP=TRUE;CN="Anthony 
 Hopkins":https://www.southeastwheelsevents.com/profile/AnthonyHopkins
END:VEVENT
END:VCALENDAR
