BEGIN:VCALENDAR
PRODID:NingEventWidget-v1
VERSION:2.0
METHOD:PUBLISH
BEGIN:VTIMEZONE
TZID:Pacific/Midway
X-LIC-LOCATION:Pacific/Midway
BEGIN:STANDARD
TZOFFSETFROM:-1100
TZOFFSETTO:-1100
TZNAME:SST
DTSTART:19700101T000000
END:STANDARD
END:VTIMEZONE
BEGIN:VEVENT
UID:5072275:Event:1188682
DTSTAMP:20260423T095057Z
SUMMARY:Classic Car Show - Orlando, Fl
DESCRIPTION:This show is organized each month on the second Friday.\n\
 nFor more information visit https://www.southeastwheelsevents.com/even
 ts/classic-car-show-orlando-fl-8
DTSTART;TZID=Pacific/Midway:20200612T180000
DTEND;TZID=Pacific/Midway:20200612T210000
CATEGORIES:car, show, cruise-in
LOCATION:Ace Cafe,
WEBSITE:https://www.google.com/maps?q=Ace+Cafe,+100+W.+Livingston+St.,
 +Orlando+Fl&amp;amp;amp;amp;amp;amp;amp;amp;amp;um=1&amp;amp;amp;amp;a
 mp;amp;amp;amp;amp;ie=UTF-8&amp;amp;amp;amp;amp;amp;amp;amp;amp;sa=X&a
 mp;amp;amp;amp;amp;amp;amp;amp;amp;ved=2ahUKEwiayJSTqtLnAhWyyzgGHRi7AE
 AQ_AUoAXoECBUQAw
URL:https://www.google.com/maps?q=Ace+Cafe,+100+W.+Livingston+St.,+Orl
 ando+Fl&amp;amp;amp;amp;amp;amp;amp;amp;amp;um=1&amp;amp;amp;amp;amp;a
 mp;amp;amp;amp;ie=UTF-8&amp;amp;amp;amp;amp;amp;amp;amp;amp;sa=X&amp;a
 mp;amp;amp;amp;amp;amp;amp;amp;ved=2ahUKEwiayJSTqtLnAhWyyzgGHRi7AEAQ_A
 UoAXoECBUQAw
CONTACT:(407) 996-6686
ORGANIZER:Alee
ATTACH;FMTTYPE="image/jpeg":https://storage.ning.com/topology/rest/1.0
 /file/get/833479952?profile=original
ATTENDEE;ROLE=REQ-PARTICIPANT;PARTSTAT=ACCEPTED;RSVP=TRUE;CN="Anthony 
 Hopkins":https://www.southeastwheelsevents.com/profile/AnthonyHopkins
END:VEVENT
END:VCALENDAR
