BEGIN:VCALENDAR
PRODID:NingEventWidget-v1
VERSION:2.0
METHOD:PUBLISH
BEGIN:VTIMEZONE
TZID:Pacific/Midway
X-LIC-LOCATION:Pacific/Midway
BEGIN:STANDARD
TZOFFSETFROM:-1100
TZOFFSETTO:-1100
TZNAME:SST
DTSTART:19700101T000000
END:STANDARD
END:VTIMEZONE
BEGIN:VEVENT
UID:5072275:Event:1189133
DTSTAMP:20260423T023019Z
SUMMARY:Classic Car Show - Plant City, Fl
DESCRIPTION:This show is organized each month on the third Tuesday.\nO
 pen to all years, makes and models of vehicles, trucks, and bicycles.\
 n\nFor more information visit https://www.southeastwheelsevents.com/ev
 ents/classic-car-show-plant-city-fl-5
DTSTART;TZID=Pacific/Midway:20200721T160000
DTEND;TZID=Pacific/Midway:20200721T190000
CATEGORIES:car, show, truck, motorcycle, cruise-in
LOCATION:Smokin' Aces BBQ,
WEBSITE:http://mobiledjmusic.com/
URL:http://mobiledjmusic.com/
CONTACT:(813) 789-9485; John@MobileDjMusic.com
ORGANIZER:John
ATTACH;FMTTYPE="image/jpeg":https://storage.ning.com/topology/rest/1.0
 /file/get/1158874060?profile=original
ATTENDEE;ROLE=REQ-PARTICIPANT;PARTSTAT=ACCEPTED;RSVP=TRUE;CN="Anthony 
 Hopkins":https://www.southeastwheelsevents.com/profile/AnthonyHopkins
END:VEVENT
END:VCALENDAR
