BEGIN:VCALENDAR
PRODID:NingEventWidget-v1
VERSION:2.0
METHOD:PUBLISH
BEGIN:VTIMEZONE
TZID:Pacific/Midway
X-LIC-LOCATION:Pacific/Midway
BEGIN:STANDARD
TZOFFSETFROM:-1100
TZOFFSETTO:-1100
TZNAME:SST
DTSTART:19700101T000000
END:STANDARD
END:VTIMEZONE
BEGIN:VEVENT
UID:5072275:Event:1201150
DTSTAMP:20260422T140828Z
SUMMARY:Classic Car Show - Sandy Springs, Ga
DESCRIPTION:This car show is organized at the Automotive, aircraft & 
 boat.\n\nFor more information visit https://www.southeastwheelsevents.
 com/events/classic-car-show-sandy-springs-ga
DTSTART;TZID=Pacific/Midway:20201011T090000
DTEND;TZID=Pacific/Midway:20201011T233000
CATEGORIES:car, show, cruise-in, antique, "cars.", vintage, classic, c
 ars, cruise, in
LOCATION:Automotive, aircraft &amp; boat,
WEBSITE:https://www.caffeineandexotics.com/
URL:https://www.caffeineandexotics.com/
CONTACT:770-395-7900
ORGANIZER:
ATTACH;FMTTYPE="image/jpeg":https://storage.ning.com/topology/rest/1.0
 /file/get/3824276159?profile=original
ATTENDEE;ROLE=REQ-PARTICIPANT;PARTSTAT=ACCEPTED;RSVP=TRUE;CN="Anthony 
 Hopkins":https://www.southeastwheelsevents.com/profile/AnthonyHopkins
END:VEVENT
END:VCALENDAR
