BEGIN:VCALENDAR
PRODID:NingEventWidget-v1
VERSION:2.0
METHOD:PUBLISH
BEGIN:VTIMEZONE
TZID:Pacific/Midway
X-LIC-LOCATION:Pacific/Midway
BEGIN:STANDARD
TZOFFSETFROM:-1100
TZOFFSETTO:-1100
TZNAME:SST
DTSTART:19700101T000000
END:STANDARD
END:VTIMEZONE
BEGIN:VEVENT
UID:5072275:Event:1188223
DTSTAMP:20260423T155534Z
SUMMARY:Classic Car Show - Stuart, Fl
DESCRIPTION:This show is organized each Tuesday at Lowe's. Facilitated
  by Lew's Crew and Carpo Auto Spa of Stuart.\n\nFor more information v
 isit https://www.southeastwheelsevents.com/events/classic-car-show-stu
 art-fl
DTSTART;TZID=Pacific/Midway:20200428T173000
DTEND;TZID=Pacific/Midway:20200428T193000
CATEGORIES:car, show, cruise-in
LOCATION:Lowe's,
WEBSITE:https://www.google.com/maps?q=Lowe%27s,+3620+SE+Federal+Hwy.,+
 Stuart,+Fl&amp;amp;amp;amp;amp;amp;amp;amp;amp;amp;amp;amp;amp;amp;um=
 1&amp;amp;amp;amp;amp;amp;amp;amp;amp;amp;amp;amp;amp;amp;ie=UTF-8&amp
 ;amp;amp;amp;amp;amp;amp;amp;amp;amp;amp;amp;amp;amp;sa=X&amp;amp;amp;
 amp;amp;amp;amp;amp;amp;amp;amp;amp;amp;amp;ved=2ahUKEwjzw6LSvMfnAhVz7
 HMBHTLfCFAQ_AUoAXoECBoQAw
URL:https://www.google.com/maps?q=Lowe%27s,+3620+SE+Federal+Hwy.,+Stua
 rt,+Fl&amp;amp;amp;amp;amp;amp;amp;amp;amp;amp;amp;amp;amp;amp;um=1&am
 p;amp;amp;amp;amp;amp;amp;amp;amp;amp;amp;amp;amp;amp;ie=UTF-8&amp;amp
 ;amp;amp;amp;amp;amp;amp;amp;amp;amp;amp;amp;amp;sa=X&amp;amp;amp;amp;
 amp;amp;amp;amp;amp;amp;amp;amp;amp;amp;ved=2ahUKEwjzw6LSvMfnAhVz7HMBH
 TLfCFAQ_AUoAXoECBoQAw
CONTACT:jimserra117@yahoo.com; (772) 285-3320
ORGANIZER:Jim Serra
ATTACH;FMTTYPE="image/jpeg":https://storage.ning.com/topology/rest/1.0
 /file/get/3817593152?profile=original
ATTENDEE;ROLE=REQ-PARTICIPANT;PARTSTAT=ACCEPTED;RSVP=TRUE;CN="Anthony 
 Hopkins":https://www.southeastwheelsevents.com/profile/AnthonyHopkins
END:VEVENT
END:VCALENDAR
