BEGIN:VCALENDAR
PRODID:NingEventWidget-v1
VERSION:2.0
METHOD:PUBLISH
BEGIN:VTIMEZONE
TZID:Pacific/Midway
X-LIC-LOCATION:Pacific/Midway
BEGIN:STANDARD
TZOFFSETFROM:-1100
TZOFFSETTO:-1100
TZNAME:SST
DTSTART:19700101T000000
END:STANDARD
END:VTIMEZONE
BEGIN:VEVENT
UID:5072275:Event:1200880
DTSTAMP:20260419T100611Z
SUMMARY:Cruisin in Classics Car Show - Woodruff, Sc
DESCRIPTION:This car show is organized at City of Woodruff.\n\nFor mor
 e information visit https://www.southeastwheelsevents.com/events/class
 ic-car-show-woodruff-sc
DTSTART;TZID=Pacific/Midway:20220813T100000
DTEND;TZID=Pacific/Midway:20220813T153000
CATEGORIES:car, show, cruise-in, antique, "cars.", vintage, classic, c
 ars, cruise, in
LOCATION:City of Woodruff
WEBSITE:
URL:
CONTACT:(706) 840-3237
ORGANIZER:President: Lonell Spurgeon
ATTACH;FMTTYPE="image/jpeg":https://storage.ning.com/topology/rest/1.0
 /file/get/3828795901?profile=original
ATTENDEE;ROLE=REQ-PARTICIPANT;PARTSTAT=ACCEPTED;RSVP=TRUE;CN="Anthony 
 Hopkins":https://www.southeastwheelsevents.com/profile/AnthonyHopkins
END:VEVENT
END:VCALENDAR
