BEGIN:VCALENDAR
PRODID:NingEventWidget-v1
VERSION:2.0
METHOD:PUBLISH
BEGIN:VTIMEZONE
TZID:Pacific/Midway
X-LIC-LOCATION:Pacific/Midway
BEGIN:STANDARD
TZOFFSETFROM:-1100
TZOFFSETTO:-1100
TZNAME:SST
DTSTART:19700101T000000
END:STANDARD
END:VTIMEZONE
BEGIN:VEVENT
UID:5072275:Event:1201670
DTSTAMP:20260423T142612Z
SUMMARY:Classic Car, Truck and Bike Show - Tampa, Fl
DESCRIPTION:This show is organized each Monday at the Boston Market.\
 n\nFor more information visit https://www.southeastwheelsevents.com/ev
 ents/classic-car-truck-and-bike-show-tampa-fl-9
DTSTART;TZID=Pacific/Midway:20210329T180000
DTEND;TZID=Pacific/Midway:20210329T210000
CATEGORIES:car, show, cruise-in, antique, "cars.", vintage, classic, c
 ars, cruise, in
LOCATION:Boston Market,
WEBSITE:http://t.ly/u73q
URL:http://t.ly/u73q
CONTACT:(813) 992-2621
ORGANIZER:
ATTACH;FMTTYPE="image/jpeg":https://storage.ning.com/topology/rest/1.0
 /file/get/7543959467?profile=original
ATTENDEE;ROLE=REQ-PARTICIPANT;PARTSTAT=ACCEPTED;RSVP=TRUE;CN="Anthony 
 Hopkins":https://www.southeastwheelsevents.com/profile/AnthonyHopkins
END:VEVENT
END:VCALENDAR
