BEGIN:VCALENDAR
PRODID:NingEventWidget-v1
VERSION:2.0
METHOD:PUBLISH
BEGIN:VTIMEZONE
TZID:Pacific/Midway
X-LIC-LOCATION:Pacific/Midway
BEGIN:STANDARD
TZOFFSETFROM:-1100
TZOFFSETTO:-1100
TZNAME:SST
DTSTART:19700101T000000
END:STANDARD
END:VTIMEZONE
BEGIN:VEVENT
UID:5072275:Event:1188442
DTSTAMP:20260424T092345Z
SUMMARY:Classic Car, Truck and Motorcycle Show - Lake Worth, Fl
DESCRIPTION:This event is organized each month on the second Thursday.
 \n\nFor more information visit https://www.southeastwheelsevents.com/e
 vents/classic-car-truck-and-motorcycle-show-lake-worth-fl
DTSTART;TZID=Pacific/Midway:20200611T180000
DTEND;TZID=Pacific/Midway:20200611T210000
CATEGORIES:car, show, truck, motorcycle, cruise-in
LOCATION:Lake Worth Beach Casino,
WEBSITE:https://www.facebook.com/michael.goodwin.73932
URL:https://www.facebook.com/michael.goodwin.73932
CONTACT:(786) 234-8152; Spin88.7fm@gmail.com
ORGANIZER:
ATTACH;FMTTYPE="image/jpeg":https://storage.ning.com/topology/rest/1.0
 /file/get/3817603437?profile=original
ATTENDEE;ROLE=REQ-PARTICIPANT;PARTSTAT=ACCEPTED;RSVP=TRUE;CN="Anthony 
 Hopkins":https://www.southeastwheelsevents.com/profile/AnthonyHopkins
END:VEVENT
END:VCALENDAR
