BEGIN:VCALENDAR
PRODID:NingEventWidget-v1
VERSION:2.0
METHOD:PUBLISH
BEGIN:VTIMEZONE
TZID:Pacific/Midway
X-LIC-LOCATION:Pacific/Midway
BEGIN:STANDARD
TZOFFSETFROM:-1100
TZOFFSETTO:-1100
TZNAME:SST
DTSTART:19700101T000000
END:STANDARD
END:VTIMEZONE
BEGIN:VEVENT
UID:5072275:Event:727537
DTSTAMP:20260421T102324Z
SUMMARY:Rolling Steel Classic Car, Truck, & Motorcycle Auction - Alpha
 retta, GA
DESCRIPTION:We have our two day Classic Car, truck, motorcycle & Colle
 ctibles Auction Feb 15th & 16th. Consign your 1920's to 1980's classic
 , antique, muscle car, hot rod, custom, or unique vehicle. We have roo
 m for up to 200 classics inside our building under roof.\nConsign your
 s today at commission as low as 0%. Take advantage of our local, Natio
 nal, & international advertising, along with live internet bidding wor
 ldwide.\nEarly consignors have no entry fee. Call Steve today 404-876-
 1048 or email steve@fsagallery.com\n\nFor more information visit https
 ://www.southeastwheelsevents.com/events/classic-car-truck-motorcycle-a
 uction-1
DTSTART;TZID=Pacific/Midway:20140216T100000
DTEND;TZID=Pacific/Midway:20140216T190000
CATEGORIES:classic, car, truck, motorcycle, auction
LOCATION:Four Seasons Auction Gallery
WEBSITE:http://www.fsagallery.com
URL:http://www.fsagallery.com
CONTACT:404-876-1048
ORGANIZER;CN="Steve White":https://www.southeastwheelsevents.com/profi
 le/SteveWhite
ATTACH;FMTTYPE="image/jpeg":http://storage.ning.com/topology/rest/1.0/
 file/get/967653261?profile=original
ATTENDEE;ROLE=REQ-PARTICIPANT;PARTSTAT=ACCEPTED;RSVP=TRUE;CN="gerry po
 irier":https://www.southeastwheelsevents.com/profile/gerrypoirier
ATTENDEE;ROLE=REQ-PARTICIPANT;PARTSTAT=ACCEPTED;RSVP=TRUE;CN="Steve Wh
 ite":https://www.southeastwheelsevents.com/profile/SteveWhite
END:VEVENT
END:VCALENDAR
